BEGIN:VCALENDAR
VERSION:2.0
PRODID:-//Sabre//Sabre VObject 4.5.8//EN
CALSCALE:GREGORIAN
BEGIN:VEVENT
UID:sabre-vobject-23b09c4a-10d8-4ccd-8ee1-472859c43981
DTSTAMP:20260425T184753Z
SUMMARY:Spring Flower Festival BOSS Trip
DESCRIPTION:Reserve your seat with BOSS today!\n
X-ALT-DESC:FMTTYPE=text/html:<!DOCTYPE HTML PUBLIC "-//W3C//DTD HTML 3.2//E
 N"><HTML><h5>Reserve your seat with BOSS today!</h5>\n</HTML>
CREATED;TZID=Asia/Seoul:20240506T155916
URL;VALUE=URI:https://humphreys.armymwr.com/calendar/event
DTSTART;TZID=Asia/Seoul:20240518T080000
DTEND;TZID=Asia/Seoul:20240518T193000
SEQUENCE:0
END:VEVENT
END:VCALENDAR
