BEGIN:VCALENDAR
VERSION:2.0
PRODID:-//Sabre//Sabre VObject 4.5.8//EN
CALSCALE:GREGORIAN
BEGIN:VEVENT
UID:sabre-vobject-cc03a813-9759-49b2-800b-0a8d4a9c1553
DTSTAMP:20260420T165522Z
SUMMARY:Mud Festival
DESCRIPTION:Reserve your seat with Outdoor Recreation TODAY!\n
X-ALT-DESC:FMTTYPE=text/html:<!DOCTYPE HTML PUBLIC "-//W3C//DTD HTML 3.2//E
 N"><HTML><h5>Reserve your seat with Outdoor Recreation TODAY!</h5>\n</HTML
 >
CREATED;TZID=Asia/Seoul:20240614T080359
URL;VALUE=URI:https://humphreys.armymwr.com/calendar/event
DTSTART;TZID=Asia/Seoul:20240727T080000
DTEND;TZID=Asia/Seoul:20240727T190000
SEQUENCE:0
END:VEVENT
END:VCALENDAR
