BEGIN:VCALENDAR
VERSION:2.0
PRODID:-//Sabre//Sabre VObject 4.5.8//EN
CALSCALE:GREGORIAN
BEGIN:VEVENT
UID:sabre-vobject-188cc4e8-4070-434a-bc59-629bef0d2d42
DTSTAMP:20260420T232414Z
SUMMARY:Ping Pong Tournament
DESCRIPTION:
X-ALT-DESC:FMTTYPE=text/html:<!DOCTYPE HTML PUBLIC "-//W3C//DTD HTML 3.2//E
 N"><HTML></HTML>
CREATED;TZID=Asia/Seoul:20240513T105059
URL;VALUE=URI:https://humphreys.armymwr.com/calendar/event
DTSTART;TZID=Asia/Seoul:20240711T170000
DTEND;TZID=Asia/Seoul:20240711T180000
SEQUENCE:0
END:VEVENT
END:VCALENDAR
