BEGIN:VCALENDAR
VERSION:2.0
PRODID:-//Sabre//Sabre VObject 4.5.8//EN
CALSCALE:GREGORIAN
BEGIN:VEVENT
UID:sabre-vobject-dd8254b0-ae30-43de-ba86-db834cd66a39
DTSTAMP:20260422T061615Z
SUMMARY:Glow Run 5K
DESCRIPTION:Balboni Field\n
X-ALT-DESC:FMTTYPE=text/html:<!DOCTYPE HTML PUBLIC "-//W3C//DTD HTML 3.2//E
 N"><HTML><h4>Balboni Field</h4>\n</HTML>
CREATED;TZID=Asia/Seoul:20240522T123755
URL;VALUE=URI:https://humphreys.armymwr.com/calendar/event
DTSTART;TZID=Asia/Seoul:20240703T200000
DTEND;TZID=Asia/Seoul:20240703T210000
SEQUENCE:0
END:VEVENT
END:VCALENDAR
