BEGIN:VCALENDAR
VERSION:2.0
PRODID:-//Sabre//Sabre VObject 4.5.8//EN
CALSCALE:GREGORIAN
BEGIN:VEVENT
UID:sabre-vobject-48ce5197-7bd9-4aaf-9aea-fa4be05e35b7
DTSTAMP:20260421T010218Z
SUMMARY:Liberty Lift Off
DESCRIPTION:Turner Fitness Center\n
X-ALT-DESC:FMTTYPE=text/html:<!DOCTYPE HTML PUBLIC "-//W3C//DTD HTML 3.2//E
 N"><HTML><h4>Turner Fitness Center</h4>\n</HTML>
CREATED;TZID=Asia/Seoul:20240621T145723
URL;VALUE=URI:https://humphreys.armymwr.com/calendar/event
DTSTART;TZID=Asia/Seoul:20240713T100000
DTEND;TZID=Asia/Seoul:20240713T110000
SEQUENCE:0
END:VEVENT
END:VCALENDAR
