BEGIN:VCALENDAR
VERSION:2.0
PRODID:-//Sabre//Sabre VObject 4.5.8//EN
CALSCALE:GREGORIAN
BEGIN:VEVENT
UID:sabre-vobject-ce5d6d65-9bec-4a72-8ae5-8a5c9dc8df6f
DTSTAMP:20260420T182356Z
SUMMARY:Flag Football Referee & Timer Rule Clinic
DESCRIPTION:Join the MWR Sports Team!\n
X-ALT-DESC:FMTTYPE=text/html:<!DOCTYPE HTML PUBLIC "-//W3C//DTD HTML 3.2//E
 N"><HTML><h5>Join the MWR Sports Team!</h5>\n</HTML>
CREATED;TZID=Asia/Seoul:20240711T152718
URL;VALUE=URI:https://humphreys.armymwr.com/calendar/event
DTSTART;TZID=Asia/Seoul:20240804T110000
DTEND;TZID=Asia/Seoul:20240804T150000
SEQUENCE:0
END:VEVENT
END:VCALENDAR
