BEGIN:VCALENDAR
VERSION:2.0
PRODID:-//Sabre//Sabre VObject 4.5.8//EN
CALSCALE:GREGORIAN
BEGIN:VEVENT
UID:sabre-vobject-44d96e7a-0641-4a8d-85f3-4cc78758da8f
DTSTAMP:20260420T064808Z
SUMMARY:2024 USAG Humphreys Company Level Flag Football Coaches Meeting
DESCRIPTION:Join the team TODAY!\n
X-ALT-DESC:FMTTYPE=text/html:<!DOCTYPE HTML PUBLIC "-//W3C//DTD HTML 3.2//E
 N"><HTML><h4>Join the team TODAY!</h4>\n</HTML>
CREATED;TZID=Asia/Seoul:20240722T153339
URL;VALUE=URI:https://humphreys.armymwr.com/calendar/event
DTSTART;TZID=Asia/Seoul:20240822T120000
DTEND;TZID=Asia/Seoul:20240822T150000
SEQUENCE:0
END:VEVENT
END:VCALENDAR
