BEGIN:VCALENDAR
VERSION:2.0
PRODID:-//Sabre//Sabre VObject 4.5.8//EN
CALSCALE:GREGORIAN
BEGIN:VEVENT
UID:sabre-vobject-a1007d1b-3586-4956-81e3-8909ddafde2b
DTSTAMP:20260420T185037Z
SUMMARY:Water Balloon Dodgeball
DESCRIPTION:Downtown Recreation Center\, Bldg. 5724\n
X-ALT-DESC:FMTTYPE=text/html:<!DOCTYPE HTML PUBLIC "-//W3C//DTD HTML 3.2//E
 N"><HTML><h5>Downtown Recreation Center\, Bldg. 5724</h5>\n</HTML>
CREATED;TZID=Asia/Seoul:20240712T133021
URL;VALUE=URI:https://humphreys.armymwr.com/calendar/event
DTSTART;TZID=Asia/Seoul:20240803T130000
DTEND;TZID=Asia/Seoul:20240803T140000
SEQUENCE:0
END:VEVENT
END:VCALENDAR
