BEGIN:VCALENDAR
VERSION:2.0
PRODID:-//Sabre//Sabre VObject 4.5.8//EN
CALSCALE:GREGORIAN
BEGIN:VEVENT
UID:sabre-vobject-9164679f-b9df-49ec-a32f-53fc9957f8c2
DTSTAMP:20260420T113603Z
SUMMARY:Ping Pong Tournament
DESCRIPTION:Downtown Recreation Center\, Bldg. 5724\n
X-ALT-DESC:FMTTYPE=text/html:<!DOCTYPE HTML PUBLIC "-//W3C//DTD HTML 3.2//E
 N"><HTML><h5>Downtown Recreation Center\, Bldg. 5724</h5>\n</HTML>
CREATED;TZID=Asia/Seoul:20240712T135958
URL;VALUE=URI:https://humphreys.armymwr.com/calendar/event
DTSTART;TZID=Asia/Seoul:20240808T170000
DTEND;TZID=Asia/Seoul:20240808T180000
SEQUENCE:0
END:VEVENT
END:VCALENDAR
