BEGIN:VCALENDAR
VERSION:2.0
PRODID:-//Sabre//Sabre VObject 4.5.8//EN
CALSCALE:GREGORIAN
BEGIN:VEVENT
UID:sabre-vobject-7e261206-873c-4387-a261-de4fd0f7d980
DTSTAMP:20260419T175253Z
SUMMARY:BOSS ESports Game Day
DESCRIPTION:Event held at&nbsp\;Downtown Recreation Center\, Bldg. 5724\n
X-ALT-DESC:FMTTYPE=text/html:<!DOCTYPE HTML PUBLIC "-//W3C//DTD HTML 3.2//E
 N"><HTML><h5>Event held at&nbsp\;Downtown Recreation Center\, Bldg. 5724</
 h5>\n</HTML>
CREATED;TZID=Asia/Seoul:20240724T151457
URL;VALUE=URI:https://humphreys.armymwr.com/calendar/event
DTSTART;TZID=Asia/Seoul:20240820T110000
DTEND;TZID=Asia/Seoul:20240820T130000
SEQUENCE:0
END:VEVENT
END:VCALENDAR
