BEGIN:VCALENDAR
VERSION:2.0
PRODID:-//Sabre//Sabre VObject 4.5.8//EN
CALSCALE:GREGORIAN
BEGIN:VEVENT
UID:sabre-vobject-056d33ff-5dcf-47b4-a2da-ac574d358a40
DTSTAMP:20260420T113604Z
SUMMARY:4 Club Challenge
DESCRIPTION:River Blend Golf Course\n
X-ALT-DESC:FMTTYPE=text/html:<!DOCTYPE HTML PUBLIC "-//W3C//DTD HTML 3.2//E
 N"><HTML><p>River Blend Golf Course</p>\n</HTML>
CREATED;TZID=Asia/Seoul:20240725T080131
URL;VALUE=URI:https://humphreys.armymwr.com/calendar/event
DTSTART;TZID=Asia/Seoul:20240804T073000
DTEND;TZID=Asia/Seoul:20240804T083000
SEQUENCE:0
END:VEVENT
END:VCALENDAR
